Workbook

Sheet New Business
B2: SVR: | C2: 0.076 | D2: New Business Mortgage Products 01.10.2026
B3: Segment | D3: Code | E3: Product Name | F3: Rate Type | G3: Rate | H3: Discount | I3: Term | J3: Reverts to: | K3: Floor | L3: App Fee | M3: Product Fee | N3: Free Val <£1,015 | O3: Free Legals for Remo | P3: Min Loan | Q3: Max loan | R3: Max LTV | S3: ERC each year | T3: Penalty Free Over payments | U3: ERC Code | V3: Purpose | W3: Min val'n | X3: Min age at app | Y3: Max age end term | Z3: Launch Date | AA3: Other info
B5: Residential Standard | D5: D175 | E5: 2 year discount | F5: Variable | G5: =C2-H5 -> 0.0469 | H5: 0.0291 | I5: 2 years | J5: SVR | K5: 0.025 | L5: 0 | M5: 499 | N5: Y | O5: Y | P5: £50k | Q5: £500k | R5: 0.8 | S5: 2%, 2% | T5: 0.25 | U5: R171 | V5: Purchase / Remortgage | W5: £125k | X5: 18 | Y5: 75 | Z5: 17.08.26
D6: F595 | E6: 2 year fixed | F6: Fixed | G6: 0.0579 | H6: - | I6: 31.12.28 | J6: SVR | K6: n/a | L6: 0 | M6: 999 | N6: Y | O6: Y | P6: £50k | Q6: £500k | R6: 0.8 | S6: 2%, 2% | T6: 0.1 | U6: R210 | V6: Purchase / Remortgage | W6: £125k | X6: 18 | Y6: 75 | Z6: 15.09.26 | AA6: Min loan size £100k outside core postcodes BL, CH, CW, M, OL, SK, WA or WN.
D7: F596 | E7: 5 year fixed | F7: Fixed | G7: 0.058 | H7: - | I7: 31.12.31 | J7: SVR | K7: n/a | L7: 0 | M7: 999 | N7: Y | O7: Y | P7: £50k | Q7: £500k | R7: 0.8 | S7: 5%, 4%, 3%, 2%, 2% | T7: 0.1 | U7: R212 | V7: Purchase / Remortgage | W7: £125k | X7: 18 | Y7: 75 | Z7: 15.09.26 | AA7: Min loan size £100k outside core postcodes BL, CH, CW, M, OL, SK, WA or WN.
D8: F597 | E8: 5 year fixed (no fee) | F8: Fixed | G8: 0.059 | H8: - | I8: 31.12.31 | J8: SVR | K8: n/a | L8: 0 | M8: 0 | N8: Y | O8: Y | P8: £50k | Q8: £500k | R8: 0.8 | S8: 5%, 4%, 3%, 2%, 2% | T8: 0.1 | U8: R212 | V8: Purchase / Remortgage | W8: £125K | X8: 18 | Y8: 75 | Z8: 15.09.26 | AA8: Min loan size £100k outside core postcodes BL, CH, CW, M, OL, SK, WA or WN.
D9: F598 | E9: 2 year fixed (90) | F9: Fixed | G9: 0.0629 | H9: - | I9: 31.12.28 | J9: SVR | K9: n/a | L9: 0 | M9: 999 | N9: Y | O9: N | P9: 112500 | Q9: £500k | R9: 0.9 | S9: 2%, 2% | T9: 0.1 | U9: R210 | V9: Purchase / Remortgage | W9: £125k | X9: 18 | Y9: 75 | Z9: 15.09.26
D10: F599 | E10: 5 year fixed (90) | F10: Fixed | G10: 0.0624 | H10: - | I10: 31.12.31 | J10: SVR | K10: n/a | L10: 0 | M10: 0 | N10: Y | O10: N | P10: 112500 | Q10: £500k | R10: 0.9 | S10: 5%, 4%, 3%, 2%, 2% | T10: 0.1 | U10: R212 | V10: Purchase / Remortgage | W10: £125k | X10: 18 | Y10: 75 | Z10: 15.09.26
D11: F600 | E11: 5 year fixed (95) | F11: Fixed | G11: 0.0654 | H11: - | I11: 31.12.31 | J11: SVR | K11: n/a | L11: 0 | M11: 0 | N11: Y | O11: N | P11: 118750 | Q11: £400k | R11: 0.95 | S11: 5%, 4%, 3%, 2%, 2% | T11: 0.1 | U11: R212 | V11: Purchase / Remortgage | W11: £125k | X11: 18 | Y11: 75 | Z11: 15.09.26 | AA11: Not available for properties in London & SE
B12: Residential Large Loan | D12: D176 | E12: 2 year discount (large loan) | F12: Variable | G12: =C2-H12 -> 0.0469 | H12: 0.0291 | I12: 2 years | J12: SVR | K12: 0.025 | L12: 0 | M12: 999 | N12: N | O12: N | P12: £500k | Q12: £1.8m | R12: 0.8 | S12: 2%, 2% | T12: 0.25 | U12: R171 | V12: Purchase / Remortgage | W12: £625k | X12: 18 | Y12: 75 | Z12: 17.08.26 | AA12: 80% LTV max loan £1m 70% max loan £1.8m
D13: F601 | E13: 5 year fixed (large loan) | F13: Fixed | G13: 0.0584 | H13: - | I13: 31.12.31 | J13: SVR | K13: n/a | L13: 250 | M13: 999 | N13: N | O13: N | P13: £500k | Q13: £750k | R13: 0.8 | S13: 5%, 4%, 3%, 2%, 2% | T13: 0.1 | U13: R212 | V13: Purchase / Remortgage | W13: £625k | X13: 18 | Y13: 75 | Z13: 15.09.26
B14: Complex Prime | D14: C027 | E14: 2 year fixed complex | F14: Fixed | G14: 0.0614 | H14: - | I14: 31.12.28 | J14: SVR | K14: n/a | L14: 0 | M14: 999 | N14: Y | O14: Y | P14: £100k | Q14: £500k | R14: 0.8 | S14: 2%, 2% | T14: 0.1 | U14: R210 | V14: Purchase / Remortgage | W14: £125k | X14: 18 | Y14: 75 | Z14: 15.09.26 | AA14: Complex Prime cases include: - Complex/non-standard income - Non-standard property - >5.5 x sole or >5 x joint income - Underwriter Discretion applied - Lending outside of criteria
D15: C028 | E15: 5 year fixed complex | F15: Fixed | G15: 0.0624 | H15: - | I15: 31.12.31 | J15: SVR | K15: n/a | L15: 0 | M15: 999 | N15: Y | O15: Y | P15: £100k | Q15: £500k | R15: 0.8 | S15: 5%, 4%, 3%, 2%, 2% | T15: 0.1 | U15: R212 | V15: Purchase / Remortgage | W15: £125k | X15: 18 | Y15: 75 | Z15: 15.09.26 | AA15: Complex Prime cases include: - Complex/non-standard income - Non-standard property - >5.5 x sole or >5 x joint income - Underwriter Discretion applied - Lending outside of criteria
D16: C029 | E16: 2 year fixed complex | F16: Fixed | G16: 0.0664 | H16: - | I16: 31.12.28 | J16: SVR | K16: n/a | L16: 0 | M16: 999 | N16: Y | O16: Y | P16: 112500 | Q16: £500k | R16: 0.9 | S16: 2%, 2% | T16: 0.1 | U16: R210 | V16: Purchase / Remortgage | W16: £125k | X16: 18 | Y16: 75 | Z16: 15.09.26 | AA16: Complex Prime cases include: - Complex/non-standard income - Non-standard property - >5.5 x sole or >5 x joint income - Underwriter Discretion applied - Lending outside of criteria
D17: C030 | E17: 5 year fixed complex | F17: Fixed | G17: 0.0664 | H17: - | I17: 31.12.31 | J17: SVR | K17: n/a | L17: 0 | M17: 999 | N17: Y | O17: Y | P17: 112500 | Q17: £500k | R17: 0.9 | S17: 5%, 4%, 3%, 2%, 2% | T17: 0.1 | U17: R212 | V17: Purchase / Remortgage | W17: £125k | X17: 18 | Y17: 75 | Z17: 15.09.26 | AA17: Complex Prime cases include: - Complex/non-standard income - Non-standard property - >5.5 x sole or >5 x joint income - Underwriter Discretion applied - Lending outside of criteria
D18: C021 | E18: 2 year discount complex | F18: Variable | G18: =C2-H18 -> 0.0519 | H18: 0.0241 | I18: 2 years | J18: SVR | K18: 0.025 | L18: 0 | M18: 499 | N18: Y | O18: Y | P18: £100k | Q18: £1m | R18: 0.8 | S18: 2%, 2% | T18: 0.25 | U18: R171 | V18: Purchase / Remortgage | W18: £125k | X18: 18 | Y18: 75 | Z18: 17.08.26 | AA18: Complex Prime cases include: - Complex/non-standard income - Non-standard property - >5.5 x sole or >5 x joint income - Underwriter Discretion applied - Lending outside of criteria
D19: C022 | E19: 2 year discount complex (90) | F19: Variable | G19: =C2-H19 -> 0.0569 | H19: 0.0191 | I19: 2 years | J19: SVR | K19: 0.025 | L19: 0 | M19: 499 | N19: Y | O19: Y | P19: 112500 | Q19: £500k | R19: 0.9 | S19: 2%, 2% | T19: 0.25 | U19: R171 | V19: Purchase / Remortgage | W19: £125k | X19: 18 | Y19: 75 | Z19: 17.08.26 | AA19: Complex Prime cases include: - Complex/non-standard income - Non-standard property - >5.5 x sole or >5 x joint income - Underwriter Discretion applied - Lending outside of criteria
B20: Credit Repair | D20: CR12 | E20: 3 year discount credit repair | F20: Variable | G20: =C2-H20 -> 0.0559 | H20: 0.0201 | I20: 3 years | J20: SVR | K20: 0.025 | L20: 0 | M20: 499 | N20: Y | O20: Y | P20: £100k | Q20: £600k | R20: 0.85 | S20: 3%, 2%, 2% | T20: 0.25 | U20: R171 | V20: Purchase / Remortgage | W20: £125k | X20: 18 | Y20: 75 | Z20: 17.08.26 | AA20: Tier 1
D21: CR15 | E21: 3 year fixed credit repair | F21: Fixed | G21: 0.0669 | H21: - | I21: 31.12.29 | J21: SVR | K21: n/a | L21: 0 | M21: 999 | N21: Y | O21: Y | P21: £100k | Q21: £500k | R21: 0.85 | S21: 3%, 2%, 2% | T21: 0.1 | U21: R211 | V21: Purchase / Remortgage | W21: £125k | X21: 18 | Y21: 75 | Z21: 15.09.26 | AA21: Tier 1
D22: CR16 | E22: 5 year fixed credit repair | F22: Fixed | G22: 0.0664 | H22: - | I22: 31.12.31 | J22: SVR | K22: n/a | L22: 0 | M22: 999 | N22: Y | O22: Y | P22: £100k | Q22: £500k | R22: 0.8 | S22: 5%, 4%, 3%, 2%, 2% | T22: 0.1 | U22: R212 | V22: Purchase / Remortgage | W22: £125k | X22: 18 | Y22: 75 | Z22: 15.09.26 | AA22: Tier 2
B23: Professionals | D23: PR17 | E23: 2 year discount professional (80) | F23: Variable | G23: =$C$2-H23 -> 0.0469 | H23: 0.0291 | I23: 2 years | J23: SVR | K23: 0.025 | L23: 0 | M23: 499 | N23: Y | O23: N | P23: £100k | Q23: £1m | R23: 0.8 | S23: 2% 2% | T23: 0.25 | U23: R171 | V23: Purchase / Remortgage | W23: £125k | X23: 18 | Y23: 75 | Z23: 17.08.26 | AA23: Interest only available up to 70% with no minimum equity requirement Part & Part up to 85% subject to maximum loan of £500k
D24: PR18 | E24: 2 year discount professional (85) | F24: Variable | G24: =$C$2-H24 -> 0.0489 | H24: 0.0271 | I24: 2 years | J24: SVR | K24: 0.025 | L24: 0 | M24: 499 | N24: Y | O24: N | P24: £100k | Q24: £600k | R24: 0.85 | S24: 2% 2% | T24: 0.25 | U24: R171 | V24: Purchase / Remortgage | W24: £125k | X24: 18 | Y24: 75 | Z24: 17.08.26 | AA24: Interest only available up to 70% with no minimum equity requirement Part & Part up to 85% subject to maximum loan of £500k
D25: PR21 | E25: 5 year fixed professional (80) | F25: Fixed | G25: 0.0574 | H25: - | I25: 31.12.31 | J25: SVR | K25: n/a | L25: 0 | M25: 999 | N25: Y | O25: N | P25: £100k | Q25: £500k | R25: 0.8 | S25: 5%, 4%, 3%, 2%, 2% | T25: 0.1 | U25: R212 | V25: Purchase / Remortgage | W25: £125k | X25: 18 | Y25: 75 | Z25: 15.09.26 | AA25: Interest only available up to 70% with no minimum equity requirement Part & Part up to 85% subject to maximum loan of £500k
D26: PR22 | E26: 5 year fixed professional (85) | F26: Fixed | G26: 0.0589 | H26: - | I26: 31.12.31 | J26: SVR | K26: n/a | L26: 0 | M26: 999 | N26: Y | O26: N | P26: £100k | Q26: £500k | R26: 0.85 | S26: 5%, 4%, 3%, 2%, 2% | T26: 0.1 | U26: R212 | V26: Purchase / Remortgage | W26: £125k | X26: 18 | Y26: 75 | Z26: 15.09.26 | AA26: Interest only available up to 70% with no minimum equity requirement Part & Part up to 85% subject to maximum loan of £500k
B27: Joint Borrower, Sole Proprietor | D27: JB15 | E27: 2 year discount 80% JBSP | F27: Variable | G27: =$C$2-H27 -> 0.0469 | H27: 0.0291 | I27: 2 years | J27: SVR | K27: 0.025 | L27: 0 | M27: 499 | N27: Y | O27: N | P27: £100k | Q27: £500k | R27: 0.8 | S27: 2% 2% | T27: 0.25 | U27: R171 | V27: Purchase / Remortgage | W27: £125k | X27: 18 | Y27: None | Z27: 17.08.26 | AA27: Close family members (parent, sibling, child)
D28: JB18 | E28: 5 year fixed 80% JBSP | F28: Fixed | G28: 0.059 | H28: - | I28: 31.12.31 | J28: SVR | K28: n/a | L28: 0 | M28: 0 | N28: Y | O28: N | P28: £100k | Q28: £500k | R28: 0.8 | S28: 5% 4% 3% 2% 2% | T28: 0.1 | U28: R212 | V28: Purchase / Remortgage | W28: £125k | X28: 18 | Y28: None | Z28: 15.09.26 | AA28: Close family members (parent, sibling, child)
D29: JB19 | E29: 5 year fixed 90% JBSP | F29: Fixed | G29: 0.0624 | H29: - | I29: 31.12.31 | J29: SVR | K29: n/a | L29: 0 | M29: 0 | N29: Y | O29: N | P29: 112500 | Q29: £500k | R29: 0.9 | S29: 5%, 4%, 3%, 2%, 2% | T29: 0.1 | U29: R212 | V29: Purchase / Remortgage | W29: £125k | X29: 18 | Y29: None | Z29: 15.09.26 | AA29: Close family members (parent, sibling, child)
B31: Retirement Interest-Only (RIO) | D31: LT87 | E31: 5 year fixed RIO | F31: Fixed | G31: 0.0624 | H31: - | I31: 31.12.31 | J31: SVR | K31: n/a | L31: 0 | M31: 0 | N31: Y | O31: Y | P31: £50k | Q31: £500k | R31: 0.6 | S31: 5%, 4%, 3%, 2%, 2% | T31: 0.1 | U31: R212 | V31: Purchase / Remortgage | W31: £125k | X31: 55 | Y31: none | Z31: 15.09.26
D32: LT82 | E32: 2 year Discount RIO | F32: Variable | G32: =C2-H32 -> 0.0499 | H32: 0.0261 | I32: 2 years | J32: SVR | K32: 0.025 | L32: 0 | M32: 999 | N32: Y | O32: Y | P32: £50k | Q32: £750k | R32: 0.6 | S32: 2%, 2% | T32: 0.25 | U32: R171 | V32: Purchase / Remortgage | W32: £125k | X32: 55 | Y32: none | Z32: 17.08.26
D33: LT83 | E33: Lifetime discount RIO | F33: Variable | G33: =C2-H33 -> 0.0519 | H33: 0.0241 | I33: Lifetime | J33: SVR | K33: 0.025 | L33: 0 | M33: 999 | N33: N | O33: N | P33: £25k | Q33: £500k | R33: 0.6 | S33: 2% in 1st year only | T33: No | U33: R208 | V33: Purchase / Remortgage | W33: £125k | X33: 55 | Y33: none | Z33: 17.08.26
B34: Lending in(to) retirement | D34: R014 | E34: 5 year fixed In(to) Retirement | F34: Fixed | G34: 0.0589 | H34: - | I34: 31.12.31 | J34: SVR | K34: n/a | L34: 0 | M34: 999 | N34: Y | O34: Y | P34: £50k | Q34: £500k | R34: 0.7 | S34: 5%, 4%, 3%, 2%, 2% | T34: 0.1 | U34: R212 | V34: Purchase / Remortgage | W34: £125k | X34: 55 | Y34: none | Z34: 15.09.26
D35: R011 | E35: 2 year discount Into retirement | F35: Variable | G35: =C2-H35 -> 0.0479 | H35: 0.0281 | I35: 2 years | J35: SVR | K35: 0.025 | L35: 0 | M35: 499 | N35: Y | O35: Y | P35: £50k | Q35: £1m | R35: 0.7 | S35: 2%, 2% | T35: 0.25 | U35: R171 | V35: Purchase / Remortgage | W35: £125k | X35: 55 | Y35: none | Z35: 17.08.26
D36: R012 | E36: Lifetime discount in retirement | F36: Variable | G36: =C2-H36 -> 0.0489 | H36: 0.0271 | I36: Lifetime | J36: SVR | K36: 0.025 | L36: 0 | M36: 999 | N36: N | O36: N | P36: £50k | Q36: £750k | R36: 0.7 | S36: 2% in 1st year only | T36: n/a | U36: n/a | V36: Purchase / Remortgage | W36: £125k | X36: 55 | Y36: none | Z36: 17.08.26
B38: Buy for Uni | D38: BU09 | E38: Buy for Uni 5 Year Discount | F38: Variable | G38: =C2-H38 -> 0.0539 | H38: 0.0221 | I38: 5 years | J38: SVR | K38: 0.025 | L38: 0 | M38: 599 | N38: N | O38: N | P38: £125k | Q38: £400k | R38: 1 | S38: None | T38: n/a | U38: n/a | V38: Purchase | W38: £140k | X38: 18 | Y38: 75 | Z38: 17.08.26 | AA38: Additional security required where LTV >80%. Youngest borrower (student) to be less than 30 years old at application and in full-time education, with at least one year remaining on university course. Parental joint borrower required. Max age of student at application 30
B40: Self-Build (Mayflower) | D40: SB43 | E40: Lifetime Discount Self-Build Mayflower | F40: Variable | G40: =C2-H40 -> 0.0585 | H40: 0.0175 | I40: Lifetime | J40: n/a | K40: 0.04 | L40: 0 | M40: 1999 | N40: N | O40: N | P40: £100k | Q40: £1m | R40: 0.8 | S40: 2% in 1st year only | T40: 0.1 | U40: R163 | V40: Purchase / Remortgage | W40: £140k | X40: 18 | Y40: none | Z40: 17.08.26 | AA40: Mayflower Exclusive Product Max stage releases: 75% of land value, 75% of each stage interim valuation (75% LTV ) Reinspection fee payable on completion of each build stage All funds released are in arrears of the build stage completion.
D41: SB44 | E41: Lifetime Discount Self-build Mayflower larger loan | F41: Variable | G41: =C2-H41 -> 0.0594 | H41: 0.0166 | I41: Lifetime | J41: n/a | K41: 0.04 | L41: 0 | M41: 0.0025 | N41: N | O41: N | P41: >£1m | Q41: £1.8m | R41: 0.7 | S41: 2%, 2% | T41: 0.1 | U41: RC93 | V41: Purchase / Remortgage | W41: £1.43m | X41: 18 | Y41: none | Z41: 17.08.26 | AA41: Mayflower Exclusive Product Max stage releases: 70% of land value, 70% of each stage interim valuation (70% LTV) Reinspection fee payable on completion of each build stage All funds released are in arrears of the build stage completion.
B42: Self-Build (BuildLoan) | D42: SB45 | E42: Lifetime Discount Self-build BuildLoan | F42: Variable | G42: =C2-H42 -> 0.0585 | H42: 0.0175 | I42: Lifetime | J42: n/a | K42: 0.04 | L42: 0 | M42: 1999 | N42: N | O42: N | P42: £100k | Q42: £600k | R42: 0.8 | S42: 2% in 1st year only | T42: 0.1 | U42: R163 | V42: Purchase / Remortgage | W42: £140k | X42: 18 | Y42: none | Z42: 17.08.26 | AA42: BuildLoan Exclusive Product Max stage releases: 85% of land value, 85% of each stage Loan to Cost All funds released are in arrears of the build stage completion.
D43: SB46 | E43: Lifetime Discount Self-Build BuildLoan (Accelerator) | F43: Variable | G43: =C2-H43 -> 0.0604 | H43: 0.0156 | I43: Lifetime | J43: n/a | K43: 0.04 | L43: 0 | M43: 1999 | N43: N | O43: N | P43: £100k | Q43: £600k | R43: 0.8 | S43: 2% in 1st year only | T43: 0.1 | U43: R163 | V43: Purchase / Remortgage | W43: £140k | X43: 18 | Y43: none | Z43: 17.08.26 | AA43: BuildLoan Exclusive Product Max stage releases: 85% of land value, 85% of each stage Loan to Cost All funds released are in advance of each build stage.
D44: SB47 | E44: Lifetime Discount Self-Build BuildLoan larger loan | F44: Variable | G44: =C2-H44 -> 0.0594 | H44: 0.0166 | I44: Lifetime | J44: n/a | K44: 0.04 | L44: 0 | M44: 0.0025 | N44: N | O44: N | P44: >£600k | Q44: £1.8m | R44: 0.7 | S44: 2%, 2% | T44: 0.1 | U44: RC93 | V44: Purchase / Remortgage | W44: £860k | X44: 18 | Y44: none | Z44: 17.08.26 | AA44: BuildLoan Exclusive Product Max stage releases: 70% of land value, 70% of each stage Loan to Cost All funds released are in arrears of the build stage completion.
D45: SB48 | E45: Lifetime Discount Self-Build BuildLoan LTV Only | F45: Variable | G45: =C2-H45 -> 0.0585 | H45: 0.0175 | I45: Lifetime | J45: n/a | K45: 0.04 | L45: 0 | M45: 1999 | N45: N | O45: N | P45: £100k | Q45: £1m | R45: 0.8 | S45: 2% in 1st year only | T45: 0.1 | U45: R163 | V45: Purchase / Remortgage | W45: £140k | X45: 18 | Y45: none | Z45: 28.08.26 | AA45: BuildLoan Exclusive Product Max stage releases: 75% of land value, 75% of each stage interim valuation (75% LTV) Reinspection fee payable on completion of each build stage All funds released are in arrears of the build stage completion.
...

Sheet Retention
B2: SVR: | C2: 0.076 | D2: Retention Mortgage Products 15.09.2026
B3: Segment | D3: Code | E3: Non-Standard? (BTL) | F3: Product Name | G3: Rate Type | H3: Rate | I3: Discount | J3: Term | K3: Reverts to: | L3: Floor | M3: Product Fee | N3: Min Sub Loan | O3: Max loan | P3: Max LTV | Q3: ERC each year | R3: Penalty Free Over payments | S3: ERC Code | T3: Portfolio >9? | U3: Ltd Co? | V3: HMO? | W3: Launch Date | X3: Other info
B5: Residential Standard | D5: F602 | E5: n/a | F5: 2 year Fixed | G5: Fixed | H5: 0.0564 | I5: n/a | J5: 31.12.28 | K5: SVR | L5: n/a | M5: 0 | N5: £5k | O5: £600k | P5: 0.8 | Q5: 2% 2% | R5: 0.1 | S5: R210 | T5: n/a | U5: n/a | V5: n/a | W5: 15.09.26
D6: F603 | E6: n/a | F6: 5 year Fixed | G6: Fixed | H6: 0.0574 | I6: n/a | J6: 31.12.31 | K6: SVR | L6: n/a | M6: 0 | N6: £5k | O6: £600k | P6: 0.8 | Q6: 5%, 4%, 3%, 2%, 2% | R6: 0.1 | S6: R212 | T6: n/a | U6: n/a | V6: n/a | W6: 15.09.26
D7: F604 | E7: n/a | F7: 2 year Fixed | G7: Fixed | H7: 0.0529 | I7: n/a | J7: 31.12.28 | K7: SVR | L7: n/a | M7: 999 | N7: £5k | O7: £600k | P7: 0.8 | Q7: 2% 2% | R7: 0.1 | S7: R210 | T7: n/a | U7: n/a | V7: n/a | W7: 15.09.26
D8: F605 | E8: n/a | F8: 3 year fixed | G8: Fixed | H8: 0.057 | I8: n/a | J8: 31.12.29 | K8: SVR | L8: n/a | M8: 0 | N8: £5k | O8: £600k | P8: 0.8 | Q8: 3% 2% 2% | R8: 0.1 | S8: R211 | T8: n/a | U8: n/a | V8: n/a | W8: 15.09.26
D9: D177 | E9: n/a | F9: 2 year Discount | G9: Discount | H9: =C2-I9 -> 0.0459 | I9: 0.0301 | J9: 2 yrs | K9: SVR | L9: 0.025 | M9: 0 | N9: £5k | O9: none | P9: 0.8 | Q9: 2% 2% | R9: 0.25 | S9: R171 | T9: n/a | U9: n/a | V9: n/a | W9: 17.08.26 | X9: ERC waived if switching to Vernon Existing borrower fixed rate during the discount period
D10: D178 | E10: n/a | F10: 2 year Discount | G10: Discount | H10: =C2-I10 -> 0.0419 | I10: 0.0341 | J10: 2 yrs | K10: SVR | L10: 0.025 | M10: 999 | N10: £5k | O10: none | P10: 0.8 | Q10: 2% 2% | R10: 0.25 | S10: R171 | T10: n/a | U10: n/a | V10: n/a | W10: 17.08.26 | X10: ERC waived if switching to Vernon Existing borrower fixed rate during the discount period
D11: OF14 | E11: n/a | F11: Lifetime 2.45% Discount Offset | G11: Discount | H11: =C2-I11 -> 0.0515 | I11: 0.0245 | J11: Lifetime | K11: SVR | L11: 0.025 | M11: 0 | N11: £5k | O11: none | P11: 0.8 | Q11: None | R11: n/a | S11: n/a | T11: n/a | U11: n/a | V11: n/a | W11: 15.04.25 | X11: Only available where customer has existing offset mortgage
B13: Retirement Interest-Only (RIO) | D13: LT88 | E13: n/a | F13: 5 year Fixed | G13: Fixed | H13: 0.0624 | I13: n/a | J13: 31.12.31 | K13: SVR | L13: n/a | M13: 0 | N13: £5k | O13: £600k | P13: 0.6 | Q13: 5%, 4%, 3%, 2%, 2% | R13: 0.1 | S13: R212 | T13: n/a | U13: n/a | V13: n/a | W13: 15.09.26 | X13: ERC not applied if repaid after repayment event (see product sheet)
D14: LT84 | E14: n/a | F14: Lifetime 2.31% Discount | G14: Discount | H14: 0.0539 | I14: 0.0221 | J14: Lifetime | K14: n/a | L14: 0.025 | M14: 0 | N14: £5k | O14: none | P14: 0.6 | Q14: none | R14: n/a | S14: n/a | T14: n/a | U14: n/a | V14: n/a | W14: 17.08.26 | X14: ERC not applied if repaid after repayment event (see product sheet)
B16: Self-Build | D16: SB22 | E16: n/a | F16: 2 Year 1.46% discount | G16: Discount | H16: 0.0614 | I16: 0.0146 | J16: 2 yrs | K16: SVR | L16: 0.04 | M16: 0 | N16: £5k | O16: none | P16: 0.75 | Q16: 2% for 1st year | R16: 0.1 | S16: R163 | T16: n/a | U16: n/a | V16: n/a | W16: 19.03.25
B18: Buy to Let Standard | D18: B111 | E18: N | F18: 5 year Fixed | G18: Fixed | H18: 0.065 | I18: n/a | J18: 31.12.31 | K18: SVR | L18: n/a | M18: 0 | N18: £5k | O18: £600k | P18: 0.75 | Q18: 5%, 4%, 3%, 2%, 2% | R18: 0.1 | S18: R212 | T18: N | U18: N | V18: N | W18: 15.09.26 | X18: Personal Name only Max 9 property portfolio
D19: B097 | E19: N | F19: 2 Year discount | G19: Discount | H19: 0.0529 | I19: 0.0231 | J19: 2 yrs | K19: SVR | L19: 0.03 | M19: 0 | N19: £5k | O19: none | P19: 0.75 | Q19: 2%, 2% | R19: 0.25 | S19: R170 | T19: N | U19: N | V19: N | W19: 17.08.26 | X19: Personal Name only Max 9 property portfolio
B20: Buy to Let Professionals | D20: B112 | E20: Y | F20: 5 year Fixed | G20: Fixed | H20: 0.069 | I20: n/a | J20: 31.12.31 | K20: SVR | L20: n/a | M20: 0 | N20: £5k | O20: £600k | P20: 0.75 | Q20: 5%, 4%, 3%, 2%, 2% | R20: 0.1 | S20: R212 | T20: Y | U20: Y | V20: Y | W20: 15.09.26 | X20: Eligibilty includes: Ltd companies / HMOs/ Portfolios 10 or more
D21: B098 | E21: Y | F21: 2 Year discount | G21: Discount | H21: 0.0569 | I21: 0.0191 | J21: 2 yrs | K21: SVR | L21: 0.03 | M21: 0 | N21: £5k | O21: none | P21: 0.75 | Q21: 2% 2% | R21: 0.25 | S21: R170 | T21: Y | U21: Y | V21: Y | W21: 17.08.26 | X21: Eligibilty includes: Ltd companies / HMOs/ Portfolios 10 or more
B23: Holiday Let Standard | D23: H070 | E23: N | F23: 5 year Fixed | G23: Fixed | H23: 0.069 | I23: n/a | J23: 31.12.31 | K23: SVR | L23: n/a | M23: 0 | N23: £5k | O23: £600k | P23: 0.75 | Q23: 5%, 4%, 3%, 2%, 2% | R23: 0.1 | S23: R212 | T23: N | U23: N | V23: n/a | W23: 15.09.26 | X23: Personal Name only Max 9 property portfolio
D24: H056 | E24: N | F24: 2 Year discount | G24: Discount | H24: 0.0569 | I24: 0.0191 | J24: 2 yrs | K24: SVR | L24: 0.03 | M24: 0 | N24: £5k | O24: none | P24: 0.75 | Q24: 2% 2% | R24: 0.25 | S24: R170 | T24: N | U24: N | V24: n/a | W24: 17.08.26 | X24: Personal Name only Max 9 property portfolio
B25: Holiday Let Professionals | D25: H071 | E25: Y | F25: 5 year Fixed | G25: Fixed | H25: 0.073 | I25: n/a | J25: 31.12.31 | K25: SVR | L25: n/a | M25: 0 | N25: £5k | O25: £600k | P25: 0.75 | Q25: 5%, 4%, 3%, 2%, 2% | R25: 0.1 | S25: R212 | T25: Y | U25: Y | V25: n/a | W25: 15.09.26 | X25: Eligibilty includes: Ltd companies / HMOs/ Portfolios 10 or more
D26: H057 | E26: Y | F26: 2 Year discount | G26: Discount | H26: 0.0609 | I26: 0.0151 | J26: 2 yrs | K26: SVR | L26: 0.03 | M26: 0 | N26: £5k | O26: none | P26: 0.75 | Q26: 2% 2% | R26: 0.25 | S26: R170 | T26: Y | U26: Y | V26: n/a | W26: 17.08.26 | X26: Eligibilty includes: Ltd companies / HMOs/ Portfolios 10 or more

Sheet Further Advance
B2: SVR: | C2: 0.076 | D2: Further Advance Mortgage Products 01.10.2025
B3: Segment | D3: Code | E3: Product Name | F3: Rate Type | G3: Rate | H3: Discount | I3: Term | J3: Reverts to: | K3: Floor | L3: Product Fee | M3: Min Sub Loan | N3: Max loan | O3: Max LTV | P3: ERC each year | Q3: Purpose | R3: Min Valuation | S3: Launch Date | T3: Other info
B5: Residential Standard | D5: D151 | E5: 5 year 2.71% Discount | F5: Discount | G5: =C2-H5 -> 0.0489 | H5: 0.0271 | I5: 5 years | J5: SVR | K5: 0.0249 | L5: 150 | M5: £5k | N5: £500k | O5: 0.8 | P5: None | Q5: Further Advance | R5: £140k | S5: 07.10.21
B7: Retirement Interest-Only (RIO) | D7: LT32 | E7: 5 year 2.51% Discount | F7: Discount | G7: =C2-H7 -> 0.0509 | H7: 0.0251 | I7: 5 years | J7: SVR | K7: 0.025 | L7: 150 | M7: £5k | N7: £750k | O7: 0.6 | P7: None | Q7: Further Advance | R7: £140k | S7: 28.02.24
B9: Self-Build | D9: SB22 | E9: 2 Year 1.46% discount | F9: Discount | G9: =C2-H9 -> 0.076 | H9: 0 | I9: Lifetime | J9: n/a | K9: n/a | L9: 1.5% (min £250) | M9: £5k | N9: £500k | O9: 0.8 | P9: None | Q9: Further Advance | R9: £140k | S9: 28.02.24
B11: Buy to Let Standard | D11: B111 | E11: 5 year Fixed | F11: Discount | G11: =C2-H11 -> 0.0669 | H11: 0.0091 | I11: 5 years | J11: SVR | K11: 0.0429 | L11: 150 | M11: £5k | N11: £1m | O11: 0.75 | P11: None | Q11: Further Advance | R11: £140k | S11: 07.10.21

Sheet Marketing only
A1: Category | B1: Segment | C1: Product Code | D1: Product | E1: Max LTV | F1: Rate | G1: ERC | H1: Product Fee | I1: Min/Max Loan | J1: Overpayments | K1: Free Valuation | L1: Free Legas for Remortgage
A2: =_xlfn.XLOOKUP($C2,'New Business'!D:D,'New Business'!B:B) -> Residential Standard | B2: =_xlfn.XLOOKUP($C2,'New Business'!D:D,'New Business'!C:C) -> 0 | C2: ='New Business'!D5 -> D175 | D2: =_xlfn.XLOOKUP($C2,'New Business'!D:D,'New Business'!E:E) -> 2 year discount | E2: =_xlfn.XLOOKUP($C2,'New Business'!D:D,'New Business'!R:R) -> 0.8 | F2: =_xlfn.XLOOKUP($C2,'New Business'!D:D,'New Business'!G:G) -> 0.0469 | G2: =_xlfn.XLOOKUP($C2,'New Business'!$D:$D,'New Business'!S:S) -> 2%, 2% | H2: =_xlfn.XLOOKUP($C2,'New Business'!$D:$D,'New Business'!M:M) -> 499 | I2: {=_xlfn.XLOOKUP($C2, 'New Business'!$D:$D, 'New Business'!P:P & "-" & 'New Business'!Q:Q)} -> £50k-£500k | J2: =_xlfn.XLOOKUP($C2,'New Business'!$D:$D,'New Business'!T:T) -> 0.25 | K2: =_xlfn.XLOOKUP($C2,'New Business'!$D:$D,'New Business'!N:N) -> Y | L2: =_xlfn.XLOOKUP($C2,'New Business'!$D:$D,'New Business'!O:O) -> Y
A3: =_xlfn.XLOOKUP($C3,'New Business'!D:D,'New Business'!B:B) -> 0 | B3: =_xlfn.XLOOKUP($C3,'New Business'!D:D,'New Business'!C:C) -> 0 | C3: ='New Business'!D6 -> F595 | D3: =_xlfn.XLOOKUP($C3,'New Business'!D:D,'New Business'!E:E) -> 2 year fixed | E3: =_xlfn.XLOOKUP($C3,'New Business'!D:D,'New Business'!R:R) -> 0.8 | F3: =_xlfn.XLOOKUP($C3,'New Business'!D:D,'New Business'!G:G) -> 0.0579 | G3: =_xlfn.XLOOKUP($C3,'New Business'!$D:$D,'New Business'!S:S) -> 2%, 2% | H3: =_xlfn.XLOOKUP($C3,'New Business'!$D:$D,'New Business'!M:M) -> 999 | I3: {=_xlfn.XLOOKUP($C3, 'New Business'!$D:$D, 'New Business'!P:P & "-" & 'New Business'!Q:Q)} -> £50k-£500k | J3: =_xlfn.XLOOKUP($C3,'New Business'!$D:$D,'New Business'!T:T) -> 0.1 | K3: =_xlfn.XLOOKUP($C3,'New Business'!$D:$D,'New Business'!N:N) -> Y | L3: =_xlfn.XLOOKUP($C3,'New Business'!$D:$D,'New Business'!O:O) -> Y
A4: =_xlfn.XLOOKUP($C4,'New Business'!D:D,'New Business'!B:B) -> 0 | B4: =_xlfn.XLOOKUP($C4,'New Business'!D:D,'New Business'!C:C) -> 0 | C4: ='New Business'!D7 -> F596 | D4: =_xlfn.XLOOKUP($C4,'New Business'!D:D,'New Business'!E:E) -> 5 year fixed | E4: =_xlfn.XLOOKUP($C4,'New Business'!D:D,'New Business'!R:R) -> 0.8 | F4: =_xlfn.XLOOKUP($C4,'New Business'!D:D,'New Business'!G:G) -> 0.058 | G4: =_xlfn.XLOOKUP($C4,'New Business'!$D:$D,'New Business'!S:S) -> 5%, 4%, 3%, 2%, 2% | H4: =_xlfn.XLOOKUP($C4,'New Business'!$D:$D,'New Business'!M:M) -> 999 | I4: {=_xlfn.XLOOKUP($C4, 'New Business'!$D:$D, 'New Business'!P:P & "-" & 'New Business'!Q:Q)} -> £50k-£500k | J4: =_xlfn.XLOOKUP($C4,'New Business'!$D:$D,'New Business'!T:T) -> 0.1 | K4: =_xlfn.XLOOKUP($C4,'New Business'!$D:$D,'New Business'!N:N) -> Y | L4: =_xlfn.XLOOKUP($C4,'New Business'!$D:$D,'New Business'!O:O) -> Y
A5: =_xlfn.XLOOKUP($C5,'New Business'!D:D,'New Business'!B:B) -> 0 | B5: =_xlfn.XLOOKUP($C5,'New Business'!D:D,'New Business'!C:C) -> 0 | C5: ='New Business'!D8 -> F597 | D5: =_xlfn.XLOOKUP($C5,'New Business'!D:D,'New Business'!E:E) -> 5 year fixed (no fee) | E5: =_xlfn.XLOOKUP($C5,'New Business'!D:D,'New Business'!R:R) -> 0.8 | F5: =_xlfn.XLOOKUP($C5,'New Business'!D:D,'New Business'!G:G) -> 0.059 | G5: =_xlfn.XLOOKUP($C5,'New Business'!$D:$D,'New Business'!S:S) -> 5%, 4%, 3%, 2%, 2% | H5: =_xlfn.XLOOKUP($C5,'New Business'!$D:$D,'New Business'!M:M) -> 0 | I5: {=_xlfn.XLOOKUP($C5, 'New Business'!$D:$D, 'New Business'!P:P & "-" & 'New Business'!Q:Q)} -> £50k-£500k | J5: =_xlfn.XLOOKUP($C5,'New Business'!$D:$D,'New Business'!T:T) -> 0.1 | K5: =_xlfn.XLOOKUP($C5,'New Business'!$D:$D,'New Business'!N:N) -> Y | L5: =_xlfn.XLOOKUP($C5,'New Business'!$D:$D,'New Business'!O:O) -> Y
A6: =_xlfn.XLOOKUP($C6,'New Business'!D:D,'New Business'!B:B) -> 0 | B6: =_xlfn.XLOOKUP($C6,'New Business'!D:D,'New Business'!C:C) -> 0 | C6: ='New Business'!D9 -> F598 | D6: =_xlfn.XLOOKUP($C6,'New Business'!D:D,'New Business'!E:E) -> 2 year fixed (90) | E6: =_xlfn.XLOOKUP($C6,'New Business'!D:D,'New Business'!R:R) -> 0.9 | F6: =_xlfn.XLOOKUP($C6,'New Business'!D:D,'New Business'!G:G) -> 0.0629 | G6: =_xlfn.XLOOKUP($C6,'New Business'!$D:$D,'New Business'!S:S) -> 2%, 2% | H6: =_xlfn.XLOOKUP($C6,'New Business'!$D:$D,'New Business'!M:M) -> 999 | I6: {=_xlfn.XLOOKUP($C6, 'New Business'!$D:$D, 'New Business'!P:P & "-" & 'New Business'!Q:Q)} -> 112500-£500k | J6: =_xlfn.XLOOKUP($C6,'New Business'!$D:$D,'New Business'!T:T) -> 0.1 | K6: =_xlfn.XLOOKUP($C6,'New Business'!$D:$D,'New Business'!N:N) -> Y | L6: =_xlfn.XLOOKUP($C6,'New Business'!$D:$D,'New Business'!O:O) -> N
A7: =_xlfn.XLOOKUP($C7,'New Business'!D:D,'New Business'!B:B) -> 0 | B7: =_xlfn.XLOOKUP($C7,'New Business'!D:D,'New Business'!C:C) -> 0 | C7: ='New Business'!D10 -> F599 | D7: =_xlfn.XLOOKUP($C7,'New Business'!D:D,'New Business'!E:E) -> 5 year fixed (90) | E7: =_xlfn.XLOOKUP($C7,'New Business'!D:D,'New Business'!R:R) -> 0.9 | F7: =_xlfn.XLOOKUP($C7,'New Business'!D:D,'New Business'!G:G) -> 0.0624 | G7: =_xlfn.XLOOKUP($C7,'New Business'!$D:$D,'New Business'!S:S) -> 5%, 4%, 3%, 2%, 2% | H7: =_xlfn.XLOOKUP($C7,'New Business'!$D:$D,'New Business'!M:M) -> 0 | I7: {=_xlfn.XLOOKUP($C7, 'New Business'!$D:$D, 'New Business'!P:P & "-" & 'New Business'!Q:Q)} -> 112500-£500k | J7: =_xlfn.XLOOKUP($C7,'New Business'!$D:$D,'New Business'!T:T) -> 0.1 | K7: =_xlfn.XLOOKUP($C7,'New Business'!$D:$D,'New Business'!N:N) -> Y | L7: =_xlfn.XLOOKUP($C7,'New Business'!$D:$D,'New Business'!O:O) -> N
A8: =_xlfn.XLOOKUP($C8,'New Business'!D:D,'New Business'!B:B) -> 0 | B8: =_xlfn.XLOOKUP($C8,'New Business'!D:D,'New Business'!C:C) -> 0 | C8: ='New Business'!D11 -> F600 | D8: =_xlfn.XLOOKUP($C8,'New Business'!D:D,'New Business'!E:E) -> 5 year fixed (95) | E8: =_xlfn.XLOOKUP($C8,'New Business'!D:D,'New Business'!R:R) -> 0.95 | F8: =_xlfn.XLOOKUP($C8,'New Business'!D:D,'New Business'!G:G) -> 0.0654 | G8: =_xlfn.XLOOKUP($C8,'New Business'!$D:$D,'New Business'!S:S) -> 5%, 4%, 3%, 2%, 2% | H8: =_xlfn.XLOOKUP($C8,'New Business'!$D:$D,'New Business'!M:M) -> 0 | I8: {=_xlfn.XLOOKUP($C8, 'New Business'!$D:$D, 'New Business'!P:P & "-" & 'New Business'!Q:Q)} -> 118750-£400k | J8: =_xlfn.XLOOKUP($C8,'New Business'!$D:$D,'New Business'!T:T) -> 0.1 | K8: =_xlfn.XLOOKUP($C8,'New Business'!$D:$D,'New Business'!N:N) -> Y | L8: =_xlfn.XLOOKUP($C8,'New Business'!$D:$D,'New Business'!O:O) -> N
A9: =_xlfn.XLOOKUP($C9,'New Business'!D:D,'New Business'!B:B) -> Residential Large Loan | B9: =_xlfn.XLOOKUP($C9,'New Business'!D:D,'New Business'!C:C) -> 0 | C9: ='New Business'!D12 -> D176 | D9: =_xlfn.XLOOKUP($C9,'New Business'!D:D,'New Business'!E:E) -> 2 year discount (large loan) | E9: =_xlfn.XLOOKUP($C9,'New Business'!D:D,'New Business'!R:R) -> 0.8 | F9: =_xlfn.XLOOKUP($C9,'New Business'!D:D,'New Business'!G:G) -> 0.0469 | G9: =_xlfn.XLOOKUP($C9,'New Business'!$D:$D,'New Business'!S:S) -> 2%, 2% | H9: =_xlfn.XLOOKUP($C9,'New Business'!$D:$D,'New Business'!M:M) -> 999 | I9: {=_xlfn.XLOOKUP($C9, 'New Business'!$D:$D, 'New Business'!P:P & "-" & 'New Business'!Q:Q)} -> £500k-£1.8m | J9: =_xlfn.XLOOKUP($C9,'New Business'!$D:$D,'New Business'!T:T) -> 0.25 | K9: =_xlfn.XLOOKUP($C9,'New Business'!$D:$D,'New Business'!N:N) -> N | L9: =_xlfn.XLOOKUP($C9,'New Business'!$D:$D,'New Business'!O:O) -> N
A10: =_xlfn.XLOOKUP($C10,'New Business'!D:D,'New Business'!B:B) -> 0 | B10: =_xlfn.XLOOKUP($C10,'New Business'!D:D,'New Business'!C:C) -> 0 | C10: ='New Business'!D13 -> F601 | D10: =_xlfn.XLOOKUP($C10,'New Business'!D:D,'New Business'!E:E) -> 5 year fixed (large loan) | E10: =_xlfn.XLOOKUP($C10,'New Business'!D:D,'New Business'!R:R) -> 0.8 | F10: =_xlfn.XLOOKUP($C10,'New Business'!D:D,'New Business'!G:G) -> 0.0584 | G10: =_xlfn.XLOOKUP($C10,'New Business'!$D:$D,'New Business'!S:S) -> 5%, 4%, 3%, 2%, 2% | H10: =_xlfn.XLOOKUP($C10,'New Business'!$D:$D,'New Business'!M:M) -> 999 | I10: {=_xlfn.XLOOKUP($C10, 'New Business'!$D:$D, 'New Business'!P:P & "-" & 'New Business'!Q:Q)} -> £500k-£750k | J10: =_xlfn.XLOOKUP($C10,'New Business'!$D:$D,'New Business'!T:T) -> 0.1 | K10: =_xlfn.XLOOKUP($C10,'New Business'!$D:$D,'New Business'!N:N) -> N | L10: =_xlfn.XLOOKUP($C10,'New Business'!$D:$D,'New Business'!O:O) -> N
A11: =_xlfn.XLOOKUP($C11,'New Business'!D:D,'New Business'!B:B) -> Complex Prime | B11: =_xlfn.XLOOKUP($C11,'New Business'!D:D,'New Business'!C:C) -> 0 | C11: ='New Business'!D14 -> C027 | D11: =_xlfn.XLOOKUP($C11,'New Business'!D:D,'New Business'!E:E) -> 2 year fixed complex | E11: =_xlfn.XLOOKUP($C11,'New Business'!D:D,'New Business'!R:R) -> 0.8 | F11: =_xlfn.XLOOKUP($C11,'New Business'!D:D,'New Business'!G:G) -> 0.0614 | G11: =_xlfn.XLOOKUP($C11,'New Business'!$D:$D,'New Business'!S:S) -> 2%, 2% | H11: =_xlfn.XLOOKUP($C11,'New Business'!$D:$D,'New Business'!M:M) -> 999 | I11: {=_xlfn.XLOOKUP($C11, 'New Business'!$D:$D, 'New Business'!P:P & "-" & 'New Business'!Q:Q)} -> £100k-£500k | J11: =_xlfn.XLOOKUP($C11,'New Business'!$D:$D,'New Business'!T:T) -> 0.1 | K11: =_xlfn.XLOOKUP($C11,'New Business'!$D:$D,'New Business'!N:N) -> Y | L11: =_xlfn.XLOOKUP($C11,'New Business'!$D:$D,'New Business'!O:O) -> Y
A12: =_xlfn.XLOOKUP($C12,'New Business'!D:D,'New Business'!B:B) -> 0 | B12: =_xlfn.XLOOKUP($C12,'New Business'!D:D,'New Business'!C:C) -> 0 | C12: ='New Business'!D15 -> C028 | D12: =_xlfn.XLOOKUP($C12,'New Business'!D:D,'New Business'!E:E) -> 5 year fixed complex | E12: =_xlfn.XLOOKUP($C12,'New Business'!D:D,'New Business'!R:R) -> 0.8 | F12: =_xlfn.XLOOKUP($C12,'New Business'!D:D,'New Business'!G:G) -> 0.0624 | G12: =_xlfn.XLOOKUP($C12,'New Business'!$D:$D,'New Business'!S:S) -> 5%, 4%, 3%, 2%, 2% | H12: =_xlfn.XLOOKUP($C12,'New Business'!$D:$D,'New Business'!M:M) -> 999 | I12: {=_xlfn.XLOOKUP($C12, 'New Business'!$D:$D, 'New Business'!P:P & "-" & 'New Business'!Q:Q)} -> £100k-£500k | J12: =_xlfn.XLOOKUP($C12,'New Business'!$D:$D,'New Business'!T:T) -> 0.1 | K12: =_xlfn.XLOOKUP($C12,'New Business'!$D:$D,'New Business'!N:N) -> Y | L12: =_xlfn.XLOOKUP($C12,'New Business'!$D:$D,'New Business'!O:O) -> Y
A13: =_xlfn.XLOOKUP($C13,'New Business'!D:D,'New Business'!B:B) -> 0 | B13: =_xlfn.XLOOKUP($C13,'New Business'!D:D,'New Business'!C:C) -> 0 | C13: ='New Business'!D16 -> C029 | D13: =_xlfn.XLOOKUP($C13,'New Business'!D:D,'New Business'!E:E) -> 2 year fixed complex | E13: =_xlfn.XLOOKUP($C13,'New Business'!D:D,'New Business'!R:R) -> 0.9 | F13: =_xlfn.XLOOKUP($C13,'New Business'!D:D,'New Business'!G:G) -> 0.0664 | G13: =_xlfn.XLOOKUP($C13,'New Business'!$D:$D,'New Business'!S:S) -> 2%, 2% | H13: =_xlfn.XLOOKUP($C13,'New Business'!$D:$D,'New Business'!M:M) -> 999 | I13: {=_xlfn.XLOOKUP($C13, 'New Business'!$D:$D, 'New Business'!P:P & "-" & 'New Business'!Q:Q)} -> 112500-£500k | J13: =_xlfn.XLOOKUP($C13,'New Business'!$D:$D,'New Business'!T:T) -> 0.1 | K13: =_xlfn.XLOOKUP($C13,'New Business'!$D:$D,'New Business'!N:N) -> Y | L13: =_xlfn.XLOOKUP($C13,'New Business'!$D:$D,'New Business'!O:O) -> Y
... A59: =_xlfn.XLOOKUP($C59,'New Business'!D:D,'New Business'!B:B) -> Holiday Let Professionals | B59: =_xlfn.XLOOKUP($C59,'New Business'!D:D,'New Business'!C:C) -> 0 | C59: ='New Business'!D62 -> H067 | D59: =_xlfn.XLOOKUP($C59,'New Business'!D:D,'New Business'!E:E) -> 2 year fixed Holiday Let (Professionals) | E59: =_xlfn.XLOOKUP($C59,'New Business'!D:D,'New Business'!R:R) -> 0.75 | F59: =_xlfn.XLOOKUP($C59,'New Business'!D:D,'New Business'!G:G) -> 0.0729 | G59: =_xlfn.XLOOKUP($C59,'New Business'!$D:$D,'New Business'!S:S) -> 2%, 2% | H59: =_xlfn.XLOOKUP($C59,'New Business'!$D:$D,'New Business'!M:M) -> 999 | I59: {=_xlfn.XLOOKUP($C59, 'New Business'!$D:$D, 'New Business'!P:P & "-" & 'New Business'!Q:Q)} -> £150k-£500k | J59: =_xlfn.XLOOKUP($C59,'New Business'!$D:$D,'New Business'!T:T) -> 0.1 | K59: =_xlfn.XLOOKUP($C59,'New Business'!$D:$D,'New Business'!N:N) -> N | L59: =_xlfn.XLOOKUP($C59,'New Business'!$D:$D,'New Business'!O:O) -> N

Sheet Sheet1
A1: Category | B1: Segment | C1: Max LTV | D1: Product | E1: Product Code | F1: Rate | G1: Discount | H1: ERC | I1: Product Fee | J1: Min/Max Loan | K1: Overpayments
A2: =_xlfn.XLOOKUP($E2,'New Business'!D:D,'New Business'!B:B) -> 0 | B2: =_xlfn.XLOOKUP($E2,'New Business'!D:D,'New Business'!C:C) -> 0 | C2: =_xlfn.XLOOKUP($E2,'New Business'!D:D,'New Business'!R:R) -> 0.8 | D2: =_xlfn.XLOOKUP($E2,'New Business'!D:D,'New Business'!E:E) -> 2 year fixed | E2: ='New Business'!D6 -> F595 | F2: =_xlfn.XLOOKUP($E2,'New Business'!D:D,'New Business'!G:G) -> 0.0579 | G2: =_xlfn.XLOOKUP($E2,'New Business'!$D:$D,'New Business'!H:H) -> - | H2: =_xlfn.XLOOKUP($E2,'New Business'!$D:$D,'New Business'!S:S) -> 2%, 2% | I2: =_xlfn.XLOOKUP($E2,'New Business'!$D:$D,'New Business'!M:M) -> 999 | J2: {=_xlfn.XLOOKUP($E2, 'New Business'!$D:$D, 'New Business'!P:P & "-" & 'New Business'!Q:Q)} -> £50k-£500k | K2: =_xlfn.XLOOKUP($E2,'New Business'!$D:$D,'New Business'!T:T) -> 0.1
A3: =_xlfn.XLOOKUP($E3,'New Business'!D:D,'New Business'!B:B) -> 0 | B3: =_xlfn.XLOOKUP($E3,'New Business'!D:D,'New Business'!C:C) -> 0 | C3: =_xlfn.XLOOKUP($E3,'New Business'!D:D,'New Business'!R:R) -> 0.8 | D3: =_xlfn.XLOOKUP($E3,'New Business'!D:D,'New Business'!E:E) -> 5 year fixed | E3: ='New Business'!D7 -> F596 | F3: =_xlfn.XLOOKUP($E3,'New Business'!D:D,'New Business'!G:G) -> 0.058 | G3: =_xlfn.XLOOKUP($E3,'New Business'!$D:$D,'New Business'!H:H) -> - | H3: =_xlfn.XLOOKUP($E3,'New Business'!$D:$D,'New Business'!S:S) -> 5%, 4%, 3%, 2%, 2% | I3: =_xlfn.XLOOKUP($E3,'New Business'!$D:$D,'New Business'!M:M) -> 999 | J3: {=_xlfn.XLOOKUP($E3, 'New Business'!$D:$D, 'New Business'!P:P & "-" & 'New Business'!Q:Q)} -> £50k-£500k | K3: =_xlfn.XLOOKUP($E3,'New Business'!$D:$D,'New Business'!T:T) -> 0.1
A4: =_xlfn.XLOOKUP($E4,'New Business'!D:D,'New Business'!B:B) -> 0 | B4: =_xlfn.XLOOKUP($E4,'New Business'!D:D,'New Business'!C:C) -> 0 | C4: =_xlfn.XLOOKUP($E4,'New Business'!D:D,'New Business'!R:R) -> 0.8 | D4: =_xlfn.XLOOKUP($E4,'New Business'!D:D,'New Business'!E:E) -> 5 year fixed (no fee) | E4: ='New Business'!D8 -> F597 | F4: =_xlfn.XLOOKUP($E4,'New Business'!D:D,'New Business'!G:G) -> 0.059 | G4: =_xlfn.XLOOKUP($E4,'New Business'!$D:$D,'New Business'!H:H) -> - | H4: =_xlfn.XLOOKUP($E4,'New Business'!$D:$D,'New Business'!S:S) -> 5%, 4%, 3%, 2%, 2% | I4: =_xlfn.XLOOKUP($E4,'New Business'!$D:$D,'New Business'!M:M) -> 0 | J4: {=_xlfn.XLOOKUP($E4, 'New Business'!$D:$D, 'New Business'!P:P & "-" & 'New Business'!Q:Q)} -> £50k-£500k | K4: =_xlfn.XLOOKUP($E4,'New Business'!$D:$D,'New Business'!T:T) -> 0.1
A5: =_xlfn.XLOOKUP($E5,'New Business'!D:D,'New Business'!B:B) -> 0 | B5: =_xlfn.XLOOKUP($E5,'New Business'!D:D,'New Business'!C:C) -> 0 | C5: =_xlfn.XLOOKUP($E5,'New Business'!D:D,'New Business'!R:R) -> 0.9 | D5: =_xlfn.XLOOKUP($E5,'New Business'!D:D,'New Business'!E:E) -> 2 year fixed (90) | E5: ='New Business'!D9 -> F598 | F5: =_xlfn.XLOOKUP($E5,'New Business'!D:D,'New Business'!G:G) -> 0.0629 | G5: =_xlfn.XLOOKUP($E5,'New Business'!$D:$D,'New Business'!H:H) -> - | H5: =_xlfn.XLOOKUP($E5,'New Business'!$D:$D,'New Business'!S:S) -> 2%, 2% | I5: =_xlfn.XLOOKUP($E5,'New Business'!$D:$D,'New Business'!M:M) -> 999 | J5: {=_xlfn.XLOOKUP($E5, 'New Business'!$D:$D, 'New Business'!P:P & "-" & 'New Business'!Q:Q)} -> 112500-£500k | K5: =_xlfn.XLOOKUP($E5,'New Business'!$D:$D,'New Business'!T:T) -> 0.1
A6: =_xlfn.XLOOKUP($E6,'New Business'!D:D,'New Business'!B:B) -> 0 | B6: =_xlfn.XLOOKUP($E6,'New Business'!D:D,'New Business'!C:C) -> 0 | C6: =_xlfn.XLOOKUP($E6,'New Business'!D:D,'New Business'!R:R) -> 0.9 | D6: =_xlfn.XLOOKUP($E6,'New Business'!D:D,'New Business'!E:E) -> 5 year fixed (90) | E6: ='New Business'!D10 -> F599 | F6: =_xlfn.XLOOKUP($E6,'New Business'!D:D,'New Business'!G:G) -> 0.0624 | G6: =_xlfn.XLOOKUP($E6,'New Business'!$D:$D,'New Business'!H:H) -> - | H6: =_xlfn.XLOOKUP($E6,'New Business'!$D:$D,'New Business'!S:S) -> 5%, 4%, 3%, 2%, 2% | I6: =_xlfn.XLOOKUP($E6,'New Business'!$D:$D,'New Business'!M:M) -> 0 | J6: {=_xlfn.XLOOKUP($E6, 'New Business'!$D:$D, 'New Business'!P:P & "-" & 'New Business'!Q:Q)} -> 112500-£500k | K6: =_xlfn.XLOOKUP($E6,'New Business'!$D:$D,'New Business'!T:T) -> 0.1
A7: =_xlfn.XLOOKUP($E7,'New Business'!D:D,'New Business'!B:B) -> 0 | B7: =_xlfn.XLOOKUP($E7,'New Business'!D:D,'New Business'!C:C) -> 0 | C7: =_xlfn.XLOOKUP($E7,'New Business'!D:D,'New Business'!R:R) -> 0.95 | D7: =_xlfn.XLOOKUP($E7,'New Business'!D:D,'New Business'!E:E) -> 5 year fixed (95) | E7: ='New Business'!D11 -> F600 | F7: =_xlfn.XLOOKUP($E7,'New Business'!D:D,'New Business'!G:G) -> 0.0654 | G7: =_xlfn.XLOOKUP($E7,'New Business'!$D:$D,'New Business'!H:H) -> - | H7: =_xlfn.XLOOKUP($E7,'New Business'!$D:$D,'New Business'!S:S) -> 5%, 4%, 3%, 2%, 2% | I7: =_xlfn.XLOOKUP($E7,'New Business'!$D:$D,'New Business'!M:M) -> 0 | J7: {=_xlfn.XLOOKUP($E7, 'New Business'!$D:$D, 'New Business'!P:P & "-" & 'New Business'!Q:Q)} -> 118750-£400k | K7: =_xlfn.XLOOKUP($E7,'New Business'!$D:$D,'New Business'!T:T) -> 0.1
A8: =_xlfn.XLOOKUP($E8,'New Business'!D:D,'New Business'!B:B) -> Residential Large Loan | B8: =_xlfn.XLOOKUP($E8,'New Business'!D:D,'New Business'!C:C) -> 0 | C8: =_xlfn.XLOOKUP($E8,'New Business'!D:D,'New Business'!R:R) -> 0.8 | D8: =_xlfn.XLOOKUP($E8,'New Business'!D:D,'New Business'!E:E) -> 2 year discount (large loan) | E8: ='New Business'!D12 -> D176 | F8: =_xlfn.XLOOKUP($E8,'New Business'!D:D,'New Business'!G:G) -> 0.0469 | G8: =_xlfn.XLOOKUP($E8,'New Business'!$D:$D,'New Business'!H:H) -> 0.0291 | H8: =_xlfn.XLOOKUP($E8,'New Business'!$D:$D,'New Business'!S:S) -> 2%, 2% | I8: =_xlfn.XLOOKUP($E8,'New Business'!$D:$D,'New Business'!M:M) -> 999 | J8: {=_xlfn.XLOOKUP($E8, 'New Business'!$D:$D, 'New Business'!P:P & "-" & 'New Business'!Q:Q)} -> £500k-£1.8m | K8: =_xlfn.XLOOKUP($E8,'New Business'!$D:$D,'New Business'!T:T) -> 0.25
A9: =_xlfn.XLOOKUP($E9,'New Business'!D:D,'New Business'!B:B) -> 0 | B9: =_xlfn.XLOOKUP($E9,'New Business'!D:D,'New Business'!C:C) -> 0 | C9: =_xlfn.XLOOKUP($E9,'New Business'!D:D,'New Business'!R:R) -> 0.8 | D9: =_xlfn.XLOOKUP($E9,'New Business'!D:D,'New Business'!E:E) -> 5 year fixed (large loan) | E9: ='New Business'!D13 -> F601 | F9: =_xlfn.XLOOKUP($E9,'New Business'!D:D,'New Business'!G:G) -> 0.0584 | G9: =_xlfn.XLOOKUP($E9,'New Business'!$D:$D,'New Business'!H:H) -> - | H9: =_xlfn.XLOOKUP($E9,'New Business'!$D:$D,'New Business'!S:S) -> 5%, 4%, 3%, 2%, 2% | I9: =_xlfn.XLOOKUP($E9,'New Business'!$D:$D,'New Business'!M:M) -> 999 | J9: {=_xlfn.XLOOKUP($E9, 'New Business'!$D:$D, 'New Business'!P:P & "-" & 'New Business'!Q:Q)} -> £500k-£750k | K9: =_xlfn.XLOOKUP($E9,'New Business'!$D:$D,'New Business'!T:T) -> 0.1
A10: =_xlfn.XLOOKUP($E10,'New Business'!D:D,'New Business'!B:B) -> Complex Prime | B10: =_xlfn.XLOOKUP($E10,'New Business'!D:D,'New Business'!C:C) -> 0 | C10: =_xlfn.XLOOKUP($E10,'New Business'!D:D,'New Business'!R:R) -> 0.8 | D10: =_xlfn.XLOOKUP($E10,'New Business'!D:D,'New Business'!E:E) -> 2 year fixed complex | E10: ='New Business'!D14 -> C027 | F10: =_xlfn.XLOOKUP($E10,'New Business'!D:D,'New Business'!G:G) -> 0.0614 | G10: =_xlfn.XLOOKUP($E10,'New Business'!$D:$D,'New Business'!H:H) -> - | H10: =_xlfn.XLOOKUP($E10,'New Business'!$D:$D,'New Business'!S:S) -> 2%, 2% | I10: =_xlfn.XLOOKUP($E10,'New Business'!$D:$D,'New Business'!M:M) -> 999 | J10: {=_xlfn.XLOOKUP($E10, 'New Business'!$D:$D, 'New Business'!P:P & "-" & 'New Business'!Q:Q)} -> £100k-£500k | K10: =_xlfn.XLOOKUP($E10,'New Business'!$D:$D,'New Business'!T:T) -> 0.1
A11: =_xlfn.XLOOKUP($E11,'New Business'!D:D,'New Business'!B:B) -> 0 | B11: =_xlfn.XLOOKUP($E11,'New Business'!D:D,'New Business'!C:C) -> 0 | C11: =_xlfn.XLOOKUP($E11,'New Business'!D:D,'New Business'!R:R) -> 0.9 | D11: =_xlfn.XLOOKUP($E11,'New Business'!D:D,'New Business'!E:E) -> 5 year fixed complex | E11: ='New Business'!D17 -> C030 | F11: =_xlfn.XLOOKUP($E11,'New Business'!D:D,'New Business'!G:G) -> 0.0664 | G11: =_xlfn.XLOOKUP($E11,'New Business'!$D:$D,'New Business'!H:H) -> - | H11: =_xlfn.XLOOKUP($E11,'New Business'!$D:$D,'New Business'!S:S) -> 5%, 4%, 3%, 2%, 2% | I11: =_xlfn.XLOOKUP($E11,'New Business'!$D:$D,'New Business'!M:M) -> 999 | J11: {=_xlfn.XLOOKUP($E11, 'New Business'!$D:$D, 'New Business'!P:P & "-" & 'New Business'!Q:Q)} -> 112500-£500k | K11: =_xlfn.XLOOKUP($E11,'New Business'!$D:$D,'New Business'!T:T) -> 0.1
A12: =_xlfn.XLOOKUP($E12,'New Business'!D:D,'New Business'!B:B) -> 0 | B12: =_xlfn.XLOOKUP($E12,'New Business'!D:D,'New Business'!C:C) -> 0 | C12: =_xlfn.XLOOKUP($E12,'New Business'!D:D,'New Business'!R:R) -> 0.8 | D12: =_xlfn.XLOOKUP($E12,'New Business'!D:D,'New Business'!E:E) -> 2 year discount complex | E12: ='New Business'!D18 -> C021 | F12: =_xlfn.XLOOKUP($E12,'New Business'!D:D,'New Business'!G:G) -> 0.0519 | G12: =_xlfn.XLOOKUP($E12,'New Business'!$D:$D,'New Business'!H:H) -> 0.0241 | H12: =_xlfn.XLOOKUP($E12,'New Business'!$D:$D,'New Business'!S:S) -> 2%, 2% | I12: =_xlfn.XLOOKUP($E12,'New Business'!$D:$D,'New Business'!M:M) -> 499 | J12: {=_xlfn.XLOOKUP($E12, 'New Business'!$D:$D, 'New Business'!P:P & "-" & 'New Business'!Q:Q)} -> £100k-£1m | K12: =_xlfn.XLOOKUP($E12,'New Business'!$D:$D,'New Business'!T:T) -> 0.25
A13: =_xlfn.XLOOKUP($E13,'New Business'!D:D,'New Business'!B:B) -> 0 | B13: =_xlfn.XLOOKUP($E13,'New Business'!D:D,'New Business'!C:C) -> 0 | C13: =_xlfn.XLOOKUP($E13,'New Business'!D:D,'New Business'!R:R) -> 0.9 | D13: =_xlfn.XLOOKUP($E13,'New Business'!D:D,'New Business'!E:E) -> 2 year discount complex (90) | E13: ='New Business'!D19 -> C022 | F13: =_xlfn.XLOOKUP($E13,'New Business'!D:D,'New Business'!G:G) -> 0.0569 | G13: =_xlfn.XLOOKUP($E13,'New Business'!$D:$D,'New Business'!H:H) -> 0.0191 | H13: =_xlfn.XLOOKUP($E13,'New Business'!$D:$D,'New Business'!S:S) -> 2%, 2% | I13: =_xlfn.XLOOKUP($E13,'New Business'!$D:$D,'New Business'!M:M) -> 499 | J13: {=_xlfn.XLOOKUP($E13, 'New Business'!$D:$D, 'New Business'!P:P & "-" & 'New Business'!Q:Q)} -> 112500-£500k | K13: =_xlfn.XLOOKUP($E13,'New Business'!$D:$D,'New Business'!T:T) -> 0.25
A14: =_xlfn.XLOOKUP($E14,'New Business'!D:D,'New Business'!B:B) -> Credit Repair | B14: =_xlfn.XLOOKUP($E14,'New Business'!D:D,'New Business'!C:C) -> 0 | C14: =_xlfn.XLOOKUP($E14,'New Business'!D:D,'New Business'!R:R) -> 0.85 | D14: =_xlfn.XLOOKUP($E14,'New Business'!D:D,'New Business'!E:E) -> 3 year discount credit repair | E14: ='New Business'!D20 -> CR12 | F14: =_xlfn.XLOOKUP($E14,'New Business'!D:D,'New Business'!G:G) -> 0.0559 | G14: =_xlfn.XLOOKUP($E14,'New Business'!$D:$D,'New Business'!H:H) -> 0.0201 | H14: =_xlfn.XLOOKUP($E14,'New Business'!$D:$D,'New Business'!S:S) -> 3%, 2%, 2% | I14: =_xlfn.XLOOKUP($E14,'New Business'!$D:$D,'New Business'!M:M) -> 499 | J14: {=_xlfn.XLOOKUP($E14, 'New Business'!$D:$D, 'New Business'!P:P & "-" & 'New Business'!Q:Q)} -> £100k-£600k | K14: =_xlfn.XLOOKUP($E14,'New Business'!$D:$D,'New Business'!T:T) -> 0.25
A15: =_xlfn.XLOOKUP($E15,'New Business'!D:D,'New Business'!B:B) -> 0 | B15: =_xlfn.XLOOKUP($E15,'New Business'!D:D,'New Business'!C:C) -> 0 | C15: =_xlfn.XLOOKUP($E15,'New Business'!D:D,'New Business'!R:R) -> 0.85 | D15: =_xlfn.XLOOKUP($E15,'New Business'!D:D,'New Business'!E:E) -> 3 year fixed credit repair | E15: ='New Business'!D21 -> CR15 | F15: =_xlfn.XLOOKUP($E15,'New Business'!D:D,'New Business'!G:G) -> 0.0669 | G15: =_xlfn.XLOOKUP($E15,'New Business'!$D:$D,'New Business'!H:H) -> - | H15: =_xlfn.XLOOKUP($E15,'New Business'!$D:$D,'New Business'!S:S) -> 3%, 2%, 2% | I15: =_xlfn.XLOOKUP($E15,'New Business'!$D:$D,'New Business'!M:M) -> 999 | J15: {=_xlfn.XLOOKUP($E15, 'New Business'!$D:$D, 'New Business'!P:P & "-" & 'New Business'!Q:Q)} -> £100k-£500k | K15: =_xlfn.XLOOKUP($E15,'New Business'!$D:$D,'New Business'!T:T) -> 0.1
A16: =_xlfn.XLOOKUP($E16,'New Business'!D:D,'New Business'!B:B) -> 0 | B16: =_xlfn.XLOOKUP($E16,'New Business'!D:D,'New Business'!C:C) -> 0 | C16: =_xlfn.XLOOKUP($E16,'New Business'!D:D,'New Business'!R:R) -> 0.8 | D16: =_xlfn.XLOOKUP($E16,'New Business'!D:D,'New Business'!E:E) -> 5 year fixed credit repair | E16: ='New Business'!D22 -> CR16 | F16: =_xlfn.XLOOKUP($E16,'New Business'!D:D,'New Business'!G:G) -> 0.0664 | G16: =_xlfn.XLOOKUP($E16,'New Business'!$D:$D,'New Business'!H:H) -> - | H16: =_xlfn.XLOOKUP($E16,'New Business'!$D:$D,'New Business'!S:S) -> 5%, 4%, 3%, 2%, 2% | I16: =_xlfn.XLOOKUP($E16,'New Business'!$D:$D,'New Business'!M:M) -> 999 | J16: {=_xlfn.XLOOKUP($E16, 'New Business'!$D:$D, 'New Business'!P:P & "-" & 'New Business'!Q:Q)} -> £100k-£500k | K16: =_xlfn.XLOOKUP($E16,'New Business'!$D:$D,'New Business'!T:T) -> 0.1
A17: =_xlfn.XLOOKUP($E17,'New Business'!D:D,'New Business'!B:B) -> Professionals | B17: =_xlfn.XLOOKUP($E17,'New Business'!D:D,'New Business'!C:C) -> 0 | C17: =_xlfn.XLOOKUP($E17,'New Business'!D:D,'New Business'!R:R) -> 0.8 | D17: =_xlfn.XLOOKUP($E17,'New Business'!D:D,'New Business'!E:E) -> 2 year discount professional (80) | E17: ='New Business'!D23 -> PR17 | F17: =_xlfn.XLOOKUP($E17,'New Business'!D:D,'New Business'!G:G) -> 0.0469 | G17: =_xlfn.XLOOKUP($E17,'New Business'!$D:$D,'New Business'!H:H) -> 0.0291 | H17: =_xlfn.XLOOKUP($E17,'New Business'!$D:$D,'New Business'!S:S) -> 2% 2% | I17: =_xlfn.XLOOKUP($E17,'New Business'!$D:$D,'New Business'!M:M) -> 499 | J17: {=_xlfn.XLOOKUP($E17, 'New Business'!$D:$D, 'New Business'!P:P & "-" & 'New Business'!Q:Q)} -> £100k-£1m | K17: =_xlfn.XLOOKUP($E17,'New Business'!$D:$D,'New Business'!T:T) -> 0.25
A18: =_xlfn.XLOOKUP($E18,'New Business'!D:D,'New Business'!B:B) -> 0 | B18: =_xlfn.XLOOKUP($E18,'New Business'!D:D,'New Business'!C:C) -> 0 | C18: =_xlfn.XLOOKUP($E18,'New Business'!D:D,'New Business'!R:R) -> 0.85 | D18: =_xlfn.XLOOKUP($E18,'New Business'!D:D,'New Business'!E:E) -> 2 year discount professional (85) | E18: ='New Business'!D24 -> PR18 | F18: =_xlfn.XLOOKUP($E18,'New Business'!D:D,'New Business'!G:G) -> 0.0489 | G18: =_xlfn.XLOOKUP($E18,'New Business'!$D:$D,'New Business'!H:H) -> 0.0271 | H18: =_xlfn.XLOOKUP($E18,'New Business'!$D:$D,'New Business'!S:S) -> 2% 2% | I18: =_xlfn.XLOOKUP($E18,'New Business'!$D:$D,'New Business'!M:M) -> 499 | J18: {=_xlfn.XLOOKUP($E18, 'New Business'!$D:$D, 'New Business'!P:P & "-" & 'New Business'!Q:Q)} -> £100k-£600k | K18: =_xlfn.XLOOKUP($E18,'New Business'!$D:$D,'New Business'!T:T) -> 0.25
A19: =_xlfn.XLOOKUP($E19,'New Business'!D:D,'New Business'!B:B) -> 0 | B19: =_xlfn.XLOOKUP($E19,'New Business'!D:D,'New Business'!C:C) -> 0 | C19: =_xlfn.XLOOKUP($E19,'New Business'!D:D,'New Business'!R:R) -> 0.8 | D19: =_xlfn.XLOOKUP($E19,'New Business'!D:D,'New Business'!E:E) -> 5 year fixed professional (80) | E19: ='New Business'!D25 -> PR21 | F19: =_xlfn.XLOOKUP($E19,'New Business'!D:D,'New Business'!G:G) -> 0.0574 | G19: =_xlfn.XLOOKUP($E19,'New Business'!$D:$D,'New Business'!H:H) -> - | H19: =_xlfn.XLOOKUP($E19,'New Business'!$D:$D,'New Business'!S:S) -> 5%, 4%, 3%, 2%, 2% | I19: =_xlfn.XLOOKUP($E19,'New Business'!$D:$D,'New Business'!M:M) -> 999 | J19: {=_xlfn.XLOOKUP($E19, 'New Business'!$D:$D, 'New Business'!P:P & "-" & 'New Business'!Q:Q)} -> £100k-£500k | K19: =_xlfn.XLOOKUP($E19,'New Business'!$D:$D,'New Business'!T:T) -> 0.1
A20: =_xlfn.XLOOKUP($E20,'New Business'!D:D,'New Business'!B:B) -> 0 | B20: =_xlfn.XLOOKUP($E20,'New Business'!D:D,'New Business'!C:C) -> 0 | C20: =_xlfn.XLOOKUP($E20,'New Business'!D:D,'New Business'!R:R) -> 0.85 | D20: =_xlfn.XLOOKUP($E20,'New Business'!D:D,'New Business'!E:E) -> 5 year fixed professional (85) | E20: ='New Business'!D26 -> PR22 | F20: =_xlfn.XLOOKUP($E20,'New Business'!D:D,'New Business'!G:G) -> 0.0589 | G20: =_xlfn.XLOOKUP($E20,'New Business'!$D:$D,'New Business'!H:H) -> - | H20: =_xlfn.XLOOKUP($E20,'New Business'!$D:$D,'New Business'!S:S) -> 5%, 4%, 3%, 2%, 2% | I20: =_xlfn.XLOOKUP($E20,'New Business'!$D:$D,'New Business'!M:M) -> 999 | J20: {=_xlfn.XLOOKUP($E20, 'New Business'!$D:$D, 'New Business'!P:P & "-" & 'New Business'!Q:Q)} -> £100k-£500k | K20: =_xlfn.XLOOKUP($E20,'New Business'!$D:$D,'New Business'!T:T) -> 0.1
A21: =_xlfn.XLOOKUP($E21,'New Business'!D:D,'New Business'!B:B) -> Joint Borrower, Sole Proprietor | B21: =_xlfn.XLOOKUP($E21,'New Business'!D:D,'New Business'!C:C) -> 0 | C21: =_xlfn.XLOOKUP($E21,'New Business'!D:D,'New Business'!R:R) -> 0.8 | D21: =_xlfn.XLOOKUP($E21,'New Business'!D:D,'New Business'!E:E) -> 2 year discount 80% JBSP | E21: ='New Business'!D27 -> JB15 | F21: =_xlfn.XLOOKUP($E21,'New Business'!D:D,'New Business'!G:G) -> 0.0469 | G21: =_xlfn.XLOOKUP($E21,'New Business'!$D:$D,'New Business'!H:H) -> 0.0291 | H21: =_xlfn.XLOOKUP($E21,'New Business'!$D:$D,'New Business'!S:S) -> 2% 2% | I21: =_xlfn.XLOOKUP($E21,'New Business'!$D:$D,'New Business'!M:M) -> 499 | J21: {=_xlfn.XLOOKUP($E21, 'New Business'!$D:$D, 'New Business'!P:P & "-" & 'New Business'!Q:Q)} -> £100k-£500k | K21: =_xlfn.XLOOKUP($E21,'New Business'!$D:$D,'New Business'!T:T) -> 0.25
A22: =_xlfn.XLOOKUP($E22,'New Business'!D:D,'New Business'!B:B) -> 0 | B22: =_xlfn.XLOOKUP($E22,'New Business'!D:D,'New Business'!C:C) -> 0 | C22: =_xlfn.XLOOKUP($E22,'New Business'!D:D,'New Business'!R:R) -> 0.8 | D22: =_xlfn.XLOOKUP($E22,'New Business'!D:D,'New Business'!E:E) -> 5 year fixed 80% JBSP | E22: ='New Business'!D28 -> JB18 | F22: =_xlfn.XLOOKUP($E22,'New Business'!D:D,'New Business'!G:G) -> 0.059 | G22: =_xlfn.XLOOKUP($E22,'New Business'!$D:$D,'New Business'!H:H) -> - | H22: =_xlfn.XLOOKUP($E22,'New Business'!$D:$D,'New Business'!S:S) -> 5% 4% 3% 2% 2% | I22: =_xlfn.XLOOKUP($E22,'New Business'!$D:$D,'New Business'!M:M) -> 0 | J22: {=_xlfn.XLOOKUP($E22, 'New Business'!$D:$D, 'New Business'!P:P & "-" & 'New Business'!Q:Q)} -> £100k-£500k | K22: =_xlfn.XLOOKUP($E22,'New Business'!$D:$D,'New Business'!T:T) -> 0.1
A23: =_xlfn.XLOOKUP($E23,'New Business'!D:D,'New Business'!B:B) -> 0 | B23: =_xlfn.XLOOKUP($E23,'New Business'!D:D,'New Business'!C:C) -> 0 | C23: =_xlfn.XLOOKUP($E23,'New Business'!D:D,'New Business'!R:R) -> 0.9 | D23: =_xlfn.XLOOKUP($E23,'New Business'!D:D,'New Business'!E:E) -> 5 year fixed 90% JBSP | E23: ='New Business'!D29 -> JB19 | F23: =_xlfn.XLOOKUP($E23,'New Business'!D:D,'New Business'!G:G) -> 0.0624 | G23: =_xlfn.XLOOKUP($E23,'New Business'!$D:$D,'New Business'!H:H) -> - | H23: =_xlfn.XLOOKUP($E23,'New Business'!$D:$D,'New Business'!S:S) -> 5%, 4%, 3%, 2%, 2% | I23: =_xlfn.XLOOKUP($E23,'New Business'!$D:$D,'New Business'!M:M) -> 0 | J23: {=_xlfn.XLOOKUP($E23, 'New Business'!$D:$D, 'New Business'!P:P & "-" & 'New Business'!Q:Q)} -> 112500-£500k | K23: =_xlfn.XLOOKUP($E23,'New Business'!$D:$D,'New Business'!T:T) -> 0.1
A24: =_xlfn.XLOOKUP($E24,'New Business'!D:D,'New Business'!B:B) -> Retirement Interest-Only (RIO) | B24: =_xlfn.XLOOKUP($E24,'New Business'!D:D,'New Business'!C:C) -> 0 | C24: =_xlfn.XLOOKUP($E24,'New Business'!D:D,'New Business'!R:R) -> 0.6 | D24: =_xlfn.XLOOKUP($E24,'New Business'!D:D,'New Business'!E:E) -> 5 year fixed RIO | E24: ='New Business'!D31 -> LT87 | F24: =_xlfn.XLOOKUP($E24,'New Business'!D:D,'New Business'!G:G) -> 0.0624 | G24: =_xlfn.XLOOKUP($E24,'New Business'!$D:$D,'New Business'!H:H) -> - | H24: =_xlfn.XLOOKUP($E24,'New Business'!$D:$D,'New Business'!S:S) -> 5%, 4%, 3%, 2%, 2% | I24: =_xlfn.XLOOKUP($E24,'New Business'!$D:$D,'New Business'!M:M) -> 0 | J24: {=_xlfn.XLOOKUP($E24, 'New Business'!$D:$D, 'New Business'!P:P & "-" & 'New Business'!Q:Q)} -> £50k-£500k | K24: =_xlfn.XLOOKUP($E24,'New Business'!$D:$D,'New Business'!T:T) -> 0.1
A25: =_xlfn.XLOOKUP($E25,'New Business'!D:D,'New Business'!B:B) -> 0 | B25: =_xlfn.XLOOKUP($E25,'New Business'!D:D,'New Business'!C:C) -> 0 | C25: =_xlfn.XLOOKUP($E25,'New Business'!D:D,'New Business'!R:R) -> 0.6 | D25: =_xlfn.XLOOKUP($E25,'New Business'!D:D,'New Business'!E:E) -> 2 year Discount RIO | E25: ='New Business'!D32 -> LT82 | F25: =_xlfn.XLOOKUP($E25,'New Business'!D:D,'New Business'!G:G) -> 0.0499 | G25: =_xlfn.XLOOKUP($E25,'New Business'!$D:$D,'New Business'!H:H) -> 0.0261 | H25: =_xlfn.XLOOKUP($E25,'New Business'!$D:$D,'New Business'!S:S) -> 2%, 2% | I25: =_xlfn.XLOOKUP($E25,'New Business'!$D:$D,'New Business'!M:M) -> 999 | J25: {=_xlfn.XLOOKUP($E25, 'New Business'!$D:$D, 'New Business'!P:P & "-" & 'New Business'!Q:Q)} -> £50k-£750k | K25: =_xlfn.XLOOKUP($E25,'New Business'!$D:$D,'New Business'!T:T) -> 0.25
A26: =_xlfn.XLOOKUP($E26,'New Business'!D:D,'New Business'!B:B) -> 0 | B26: =_xlfn.XLOOKUP($E26,'New Business'!D:D,'New Business'!C:C) -> 0 | C26: =_xlfn.XLOOKUP($E26,'New Business'!D:D,'New Business'!R:R) -> 0.6 | D26: =_xlfn.XLOOKUP($E26,'New Business'!D:D,'New Business'!E:E) -> Lifetime discount RIO | E26: ='New Business'!D33 -> LT83 | F26: =_xlfn.XLOOKUP($E26,'New Business'!D:D,'New Business'!G:G) -> 0.0519 | G26: =_xlfn.XLOOKUP($E26,'New Business'!$D:$D,'New Business'!H:H) -> 0.0241 | H26: =_xlfn.XLOOKUP($E26,'New Business'!$D:$D,'New Business'!S:S) -> 2% in 1st year only | I26: =_xlfn.XLOOKUP($E26,'New Business'!$D:$D,'New Business'!M:M) -> 999 | J26: {=_xlfn.XLOOKUP($E26, 'New Business'!$D:$D, 'New Business'!P:P & "-" & 'New Business'!Q:Q)} -> £25k-£500k | K26: =_xlfn.XLOOKUP($E26,'New Business'!$D:$D,'New Business'!T:T) -> No
A27: =_xlfn.XLOOKUP($E27,'New Business'!D:D,'New Business'!B:B) -> Lending in(to) retirement | B27: =_xlfn.XLOOKUP($E27,'New Business'!D:D,'New Business'!C:C) -> 0 | C27: =_xlfn.XLOOKUP($E27,'New Business'!D:D,'New Business'!R:R) -> 0.7 | D27: =_xlfn.XLOOKUP($E27,'New Business'!D:D,'New Business'!E:E) -> 5 year fixed In(to) Retirement | E27: ='New Business'!D34 -> R014 | F27: =_xlfn.XLOOKUP($E27,'New Business'!D:D,'New Business'!G:G) -> 0.0589 | G27: =_xlfn.XLOOKUP($E27,'New Business'!$D:$D,'New Business'!H:H) -> - | H27: =_xlfn.XLOOKUP($E27,'New Business'!$D:$D,'New Business'!S:S) -> 5%, 4%, 3%, 2%, 2% | I27: =_xlfn.XLOOKUP($E27,'New Business'!$D:$D,'New Business'!M:M) -> 999 | J27: {=_xlfn.XLOOKUP($E27, 'New Business'!$D:$D, 'New Business'!P:P & "-" & 'New Business'!Q:Q)} -> £50k-£500k | K27: =_xlfn.XLOOKUP($E27,'New Business'!$D:$D,'New Business'!T:T) -> 0.1
A28: =_xlfn.XLOOKUP($E28,'New Business'!D:D,'New Business'!B:B) -> 0 | B28: =_xlfn.XLOOKUP($E28,'New Business'!D:D,'New Business'!C:C) -> 0 | C28: =_xlfn.XLOOKUP($E28,'New Business'!D:D,'New Business'!R:R) -> 0.7 | D28: =_xlfn.XLOOKUP($E28,'New Business'!D:D,'New Business'!E:E) -> 2 year discount Into retirement | E28: ='New Business'!D35 -> R011 | F28: =_xlfn.XLOOKUP($E28,'New Business'!D:D,'New Business'!G:G) -> 0.0479 | G28: =_xlfn.XLOOKUP($E28,'New Business'!$D:$D,'New Business'!H:H) -> 0.0281 | H28: =_xlfn.XLOOKUP($E28,'New Business'!$D:$D,'New Business'!S:S) -> 2%, 2% | I28: =_xlfn.XLOOKUP($E28,'New Business'!$D:$D,'New Business'!M:M) -> 499 | J28: {=_xlfn.XLOOKUP($E28, 'New Business'!$D:$D, 'New Business'!P:P & "-" & 'New Business'!Q:Q)} -> £50k-£1m | K28: =_xlfn.XLOOKUP($E28,'New Business'!$D:$D,'New Business'!T:T) -> 0.25
A29: =_xlfn.XLOOKUP($E29,'New Business'!D:D,'New Business'!B:B) -> 0 | B29: =_xlfn.XLOOKUP($E29,'New Business'!D:D,'New Business'!C:C) -> 0 | C29: =_xlfn.XLOOKUP($E29,'New Business'!D:D,'New Business'!R:R) -> 0.7 | D29: =_xlfn.XLOOKUP($E29,'New Business'!D:D,'New Business'!E:E) -> Lifetime discount in retirement | E29: ='New Business'!D36 -> R012 | F29: =_xlfn.XLOOKUP($E29,'New Business'!D:D,'New Business'!G:G) -> 0.0489 | G29: =_xlfn.XLOOKUP($E29,'New Business'!$D:$D,'New Business'!H:H) -> 0.0271 | H29: =_xlfn.XLOOKUP($E29,'New Business'!$D:$D,'New Business'!S:S) -> 2% in 1st year only | I29: =_xlfn.XLOOKUP($E29,'New Business'!$D:$D,'New Business'!M:M) -> 999 | J29: {=_xlfn.XLOOKUP($E29, 'New Business'!$D:$D, 'New Business'!P:P & "-" & 'New Business'!Q:Q)} -> £50k-£750k | K29: =_xlfn.XLOOKUP($E29,'New Business'!$D:$D,'New Business'!T:T) -> n/a
